BEGIN:VCALENDAR
VERSION:2.0
PRODID:-//Begbroke Science Park - ECPv6.15.20//NONSGML v1.0//EN
CALSCALE:GREGORIAN
METHOD:PUBLISH
X-ORIGINAL-URL:https://www.begbroke.ox.ac.uk
X-WR-CALDESC:Events for Begbroke Science Park
REFRESH-INTERVAL;VALUE=DURATION:PT1H
X-Robots-Tag:noindex
X-PUBLISHED-TTL:PT1H
BEGIN:VTIMEZONE
TZID:UTC
BEGIN:STANDARD
TZOFFSETFROM:+0000
TZOFFSETTO:+0000
TZNAME:UTC
DTSTART:20240101T000000
END:STANDARD
END:VTIMEZONE
BEGIN:VEVENT
DTSTART;TZID=UTC:20250618T093000
DTEND;TZID=UTC:20250618T103000
DTSTAMP:20260424T154912
CREATED:20250519T155134Z
LAST-MODIFIED:20250610T084058Z
UID:4251-1750239000-1750242600@www.begbroke.ox.ac.uk
SUMMARY:Begbroke Community Coffee Morning
DESCRIPTION:Join us for the next Begbroke Community Coffee Morning. It will be a great opportunity to meet others across the site and enjoy a cup of coffee together. \nEvent Details: \nDate: Wednesday 18 June\nTime: 9.30am – 10.30am\nLocation: Cherwell Room (CIE) \nSign Up Here
URL:https://www.begbroke.ox.ac.uk/event/begbroke-community-coffee-morning/
LOCATION:Cherwell Room\, Oxford University Begbroke Science Park
CATEGORIES:Site Events
ATTACH;FMTTYPE=image/png:https://www.begbroke.ox.ac.uk/wp-content/uploads/2025/05/website-26.png
END:VEVENT
END:VCALENDAR