BEGIN:VCALENDAR
VERSION:2.0
PRODID:-//Begbroke Science Park - ECPv6.15.20//NONSGML v1.0//EN
CALSCALE:GREGORIAN
METHOD:PUBLISH
X-ORIGINAL-URL:https://www.begbroke.ox.ac.uk
X-WR-CALDESC:Events for Begbroke Science Park
REFRESH-INTERVAL;VALUE=DURATION:PT1H
X-Robots-Tag:noindex
X-PUBLISHED-TTL:PT1H
BEGIN:VTIMEZONE
TZID:UTC
BEGIN:STANDARD
TZOFFSETFROM:+0000
TZOFFSETTO:+0000
TZNAME:UTC
DTSTART:20240101T000000
END:STANDARD
END:VTIMEZONE
BEGIN:VEVENT
DTSTART;TZID=UTC:20251022T093000
DTEND;TZID=UTC:20251022T103000
DTSTAMP:20260424T085853
CREATED:20250819T153739Z
LAST-MODIFIED:20251016T123645Z
UID:4614-1761125400-1761129000@www.begbroke.ox.ac.uk
SUMMARY:Begbroke Community Coffee Morning: October
DESCRIPTION:Join us for the next Begbroke Community Coffee Morning. This event is open to members of the Begbroke community only and will be a great opportunity to meet others across the site and enjoy a cup of coffee together. \nEvent Details: \nDate: Wednesday 22 October\nTime: 9.30am – 10.30am\nLocation: Cherwell Room (CIE) \nBook Your Place Here
URL:https://www.begbroke.ox.ac.uk/event/begbroke-community-coffee-morning-october/
LOCATION:Cherwell Room\, Oxford University Begbroke Science Park
CATEGORIES:Site Events
ATTACH;FMTTYPE=image/png:https://www.begbroke.ox.ac.uk/wp-content/uploads/2025/08/website-70.png
END:VEVENT
END:VCALENDAR