BEGIN:VCALENDAR
VERSION:2.0
PRODID:-//Begbroke Science Park - ECPv6.15.20//NONSGML v1.0//EN
CALSCALE:GREGORIAN
METHOD:PUBLISH
X-WR-CALNAME:Begbroke Science Park
X-ORIGINAL-URL:https://www.begbroke.ox.ac.uk
X-WR-CALDESC:Events for Begbroke Science Park
REFRESH-INTERVAL;VALUE=DURATION:PT1H
X-Robots-Tag:noindex
X-PUBLISHED-TTL:PT1H
BEGIN:VTIMEZONE
TZID:UTC
BEGIN:STANDARD
TZOFFSETFROM:+0000
TZOFFSETTO:+0000
TZNAME:UTC
DTSTART:20240101T000000
END:STANDARD
END:VTIMEZONE
BEGIN:VEVENT
DTSTART;TZID=UTC:20251203T120000
DTEND;TZID=UTC:20251203T133000
DTSTAMP:20260424T053448
CREATED:20251118T175150Z
LAST-MODIFIED:20251118T175211Z
UID:5102-1764763200-1764768600@www.begbroke.ox.ac.uk
SUMMARY:Begbroke Community Christmas Quiz
DESCRIPTION:Join us for the Begbroke Community Christmas Quiz\, co-hosted by Begbroke and Opsydia\, in support of Crisis\, the national charity helping people experiencing homelessness. This event is open to members of the Begbroke community only. \nEvent Details:\nDate: Wednesday 3 December\nTime: 12:00pm – 1:30pm (quiz will begin promptly at 12:15pm)\nLocation: Blenheim Room\nEntry: Register your team below and make a £2-per-person donation (maximum 6 people per team – first come\, first served) \nRegister Your Team
URL:https://www.begbroke.ox.ac.uk/event/begbroke-community-christmas-quiz/
LOCATION:Blenheim Room
CATEGORIES:Site Events
ATTACH;FMTTYPE=image/png:https://www.begbroke.ox.ac.uk/wp-content/uploads/2025/11/website-82.png
END:VEVENT
END:VCALENDAR