BEGIN:VCALENDAR
VERSION:2.0
PRODID:-//Begbroke Science Park - ECPv6.15.20//NONSGML v1.0//EN
CALSCALE:GREGORIAN
METHOD:PUBLISH
X-WR-CALNAME:Begbroke Science Park
X-ORIGINAL-URL:https://www.begbroke.ox.ac.uk
X-WR-CALDESC:Events for Begbroke Science Park
REFRESH-INTERVAL;VALUE=DURATION:PT1H
X-Robots-Tag:noindex
X-PUBLISHED-TTL:PT1H
BEGIN:VTIMEZONE
TZID:UTC
BEGIN:STANDARD
TZOFFSETFROM:+0000
TZOFFSETTO:+0000
TZNAME:UTC
DTSTART:20250101T000000
END:STANDARD
END:VTIMEZONE
BEGIN:VEVENT
DTSTART;TZID=UTC:20260204T113000
DTEND;TZID=UTC:20260204T140000
DTSTAMP:20260424T021251
CREATED:20260128T132006Z
LAST-MODIFIED:20260129T112751Z
UID:5468-1770204600-1770213600@www.begbroke.ox.ac.uk
SUMMARY:East West Railway Company
DESCRIPTION:The East West Railway Company team will be in the Coffee Shop on Wednesday 4 February\, 11.30am–2pm\, to share plans and answer questions about the new rail link between Cambridge and Oxford. Drop in to find out more.
URL:https://www.begbroke.ox.ac.uk/event/east-west-railway-company/
LOCATION:Begbroke Coffee Shop
CATEGORIES:Site Events
ATTACH;FMTTYPE=image/png:https://www.begbroke.ox.ac.uk/wp-content/uploads/2026/01/website-news-and-event-images.png
END:VEVENT
END:VCALENDAR