BEGIN:VCALENDAR
VERSION:2.0
PRODID:-//Begbroke Science Park - ECPv6.15.20//NONSGML v1.0//EN
CALSCALE:GREGORIAN
METHOD:PUBLISH
X-ORIGINAL-URL:https://www.begbroke.ox.ac.uk
X-WR-CALDESC:Events for Begbroke Science Park
REFRESH-INTERVAL;VALUE=DURATION:PT1H
X-Robots-Tag:noindex
X-PUBLISHED-TTL:PT1H
BEGIN:VTIMEZONE
TZID:UTC
BEGIN:STANDARD
TZOFFSETFROM:+0000
TZOFFSETTO:+0000
TZNAME:UTC
DTSTART:20240101T000000
END:STANDARD
END:VTIMEZONE
BEGIN:VEVENT
DTSTART;TZID=UTC:20260422T100000
DTEND;TZID=UTC:20260422T110000
DTSTAMP:20260423T210245
CREATED:20260130T173553Z
LAST-MODIFIED:20260408T131009Z
UID:5494-1776852000-1776855600@www.begbroke.ox.ac.uk
SUMMARY:Begbroke Community Coffee Morning: April
DESCRIPTION:Join us for the April Community Coffee Morning. This event is open to members of the Begbroke community only and will be a great opportunity to meet others across the site and enjoy a cup of coffee together. \nEvent Details: \nDate: Wednesday 22 April\nTime: 10am–11am\nLocation: Cherwell Room (CIE) \nRegister your place
URL:https://www.begbroke.ox.ac.uk/event/begbroke-community-coffee-morning-april/
LOCATION:Cherwell Room
CATEGORIES:Site Events
ATTACH;FMTTYPE=image/png:https://www.begbroke.ox.ac.uk/wp-content/uploads/2025/08/website-70.png
END:VEVENT
BEGIN:VEVENT
DTSTART;TZID=UTC:20260325T100000
DTEND;TZID=UTC:20260325T110000
DTSTAMP:20260423T210245
CREATED:20260130T112634Z
LAST-MODIFIED:20260205T090837Z
UID:5482-1774432800-1774436400@www.begbroke.ox.ac.uk
SUMMARY:Begbroke Community Coffee Morning: March
DESCRIPTION:Join us for the March Community Coffee Morning. This event is open to members of the Begbroke community only and will be a great opportunity to meet others across the site and enjoy a cup of coffee together. \nEvent Details: \nDate: Wednesday 25 March\nTime: 10am – 11am\nLocation: Cherwell Room (CIE)\nRegistration: Save the date! Registration will open shortly.
URL:https://www.begbroke.ox.ac.uk/event/begbroke-community-coffee-morning-march/
LOCATION:Cherwell Room
CATEGORIES:Site Events
ATTACH;FMTTYPE=image/png:https://www.begbroke.ox.ac.uk/wp-content/uploads/2025/08/website-70.png
END:VEVENT
BEGIN:VEVENT
DTSTART;TZID=UTC:20260225T100000
DTEND;TZID=UTC:20260225T110000
DTSTAMP:20260423T210245
CREATED:20251212T184636Z
LAST-MODIFIED:20260130T112834Z
UID:5251-1772013600-1772017200@www.begbroke.ox.ac.uk
SUMMARY:Begbroke Community Coffee Morning: February
DESCRIPTION:Join us for the February Community Coffee Morning. This event is open to members of the Begbroke community only and will be a great opportunity to meet others across the site and enjoy a cup of coffee together. \nEvent Details: \nDate: Wednesday 25 February\nTime: 10am – 11am\nLocation: Cherwell Room (CIE) \nRegister your place here
URL:https://www.begbroke.ox.ac.uk/event/begbroke-community-coffee-morning-february/
LOCATION:Cherwell Room
CATEGORIES:Site Events
ATTACH;FMTTYPE=image/png:https://www.begbroke.ox.ac.uk/wp-content/uploads/2025/05/website-26.png
END:VEVENT
BEGIN:VEVENT
DTSTART;TZID=UTC:20260204T113000
DTEND;TZID=UTC:20260204T140000
DTSTAMP:20260423T210245
CREATED:20260128T132006Z
LAST-MODIFIED:20260129T112751Z
UID:5468-1770204600-1770213600@www.begbroke.ox.ac.uk
SUMMARY:East West Railway Company
DESCRIPTION:The East West Railway Company team will be in the Coffee Shop on Wednesday 4 February\, 11.30am–2pm\, to share plans and answer questions about the new rail link between Cambridge and Oxford. Drop in to find out more.
URL:https://www.begbroke.ox.ac.uk/event/east-west-railway-company/
LOCATION:Begbroke Coffee Shop
CATEGORIES:Site Events
ATTACH;FMTTYPE=image/png:https://www.begbroke.ox.ac.uk/wp-content/uploads/2026/01/website-news-and-event-images.png
END:VEVENT
BEGIN:VEVENT
DTSTART;TZID=UTC:20260128T100000
DTEND;TZID=UTC:20260128T110000
DTSTAMP:20260423T210245
CREATED:20251212T184118Z
LAST-MODIFIED:20251212T184329Z
UID:5248-1769594400-1769598000@www.begbroke.ox.ac.uk
SUMMARY:Begbroke Community Coffee Morning: January
DESCRIPTION:Join us for the January Community Coffee Morning. This event is open to members of the Begbroke community only and will be a great opportunity to meet others across the site and enjoy a cup of coffee together. Please ensure you register in advance for this event. \nEvent Details: \nDate: Wednesday 28 January\nTime: 10am – 11am\nLocation: Cherwell Room (CIE) \nSign up here
URL:https://www.begbroke.ox.ac.uk/event/begbroke-community-coffee-morning-january/
LOCATION:Cherwell Room
CATEGORIES:Site Events
ATTACH;FMTTYPE=image/png:https://www.begbroke.ox.ac.uk/wp-content/uploads/2025/08/website-70.png
END:VEVENT
BEGIN:VEVENT
DTSTART;TZID=UTC:20251203T120000
DTEND;TZID=UTC:20251203T133000
DTSTAMP:20260423T210245
CREATED:20251118T175150Z
LAST-MODIFIED:20251118T175211Z
UID:5102-1764763200-1764768600@www.begbroke.ox.ac.uk
SUMMARY:Begbroke Community Christmas Quiz
DESCRIPTION:Join us for the Begbroke Community Christmas Quiz\, co-hosted by Begbroke and Opsydia\, in support of Crisis\, the national charity helping people experiencing homelessness. This event is open to members of the Begbroke community only. \nEvent Details:\nDate: Wednesday 3 December\nTime: 12:00pm – 1:30pm (quiz will begin promptly at 12:15pm)\nLocation: Blenheim Room\nEntry: Register your team below and make a £2-per-person donation (maximum 6 people per team – first come\, first served) \nRegister Your Team
URL:https://www.begbroke.ox.ac.uk/event/begbroke-community-christmas-quiz/
LOCATION:Blenheim Room
CATEGORIES:Site Events
ATTACH;FMTTYPE=image/png:https://www.begbroke.ox.ac.uk/wp-content/uploads/2025/11/website-82.png
END:VEVENT
BEGIN:VEVENT
DTSTART;TZID=UTC:20251119T100000
DTEND;TZID=UTC:20251119T110000
DTSTAMP:20260423T210245
CREATED:20250819T153933Z
LAST-MODIFIED:20251027T152800Z
UID:4617-1763546400-1763550000@www.begbroke.ox.ac.uk
SUMMARY:Begbroke Community Coffee Morning: November
DESCRIPTION:Join us for the November Community Coffee Morning. This event is open to members of the Begbroke community only and will be a great opportunity to meet others across the site and enjoy a cup of coffee together. \nEvent Details: \nDate: Wednesday 19 November\nTime: 10am – 11am\nLocation: Cherwell Room (CIE) \nSign up here
URL:https://www.begbroke.ox.ac.uk/event/begbroke-community-coffee-morning-november/
LOCATION:Cherwell Room\, Oxford University Begbroke Science Park
CATEGORIES:Site Events
ATTACH;FMTTYPE=image/png:https://www.begbroke.ox.ac.uk/wp-content/uploads/2025/08/website-70.png
END:VEVENT
BEGIN:VEVENT
DTSTART;TZID=UTC:20251022T093000
DTEND;TZID=UTC:20251022T103000
DTSTAMP:20260423T210245
CREATED:20250819T153739Z
LAST-MODIFIED:20251016T123645Z
UID:4614-1761125400-1761129000@www.begbroke.ox.ac.uk
SUMMARY:Begbroke Community Coffee Morning: October
DESCRIPTION:Join us for the next Begbroke Community Coffee Morning. This event is open to members of the Begbroke community only and will be a great opportunity to meet others across the site and enjoy a cup of coffee together. \nEvent Details: \nDate: Wednesday 22 October\nTime: 9.30am – 10.30am\nLocation: Cherwell Room (CIE) \nBook Your Place Here
URL:https://www.begbroke.ox.ac.uk/event/begbroke-community-coffee-morning-october/
LOCATION:Cherwell Room\, Oxford University Begbroke Science Park
CATEGORIES:Site Events
ATTACH;FMTTYPE=image/png:https://www.begbroke.ox.ac.uk/wp-content/uploads/2025/08/website-70.png
END:VEVENT
BEGIN:VEVENT
DTSTART;TZID=UTC:20250924T093000
DTEND;TZID=UTC:20250924T103000
DTSTAMP:20260423T210245
CREATED:20250801T162616Z
LAST-MODIFIED:20250801T162934Z
UID:4501-1758706200-1758709800@www.begbroke.ox.ac.uk
SUMMARY:Begbroke Community Coffee Morning: September
DESCRIPTION:Join us for the next Begbroke Community Coffee Morning. It will be a great opportunity to meet others across the site and enjoy a cup of coffee together. \nEvent Details: \nDate: Wednesday 24 September\nTime: 9.30am – 10.30am\nLocation: Cherwell Room (CIE) \nSigh Up Here
URL:https://www.begbroke.ox.ac.uk/event/begbroke-community-coffee-morning-2/
LOCATION:Cherwell Room\, Oxford University Begbroke Science Park
CATEGORIES:Site Events
ATTACH;FMTTYPE=image/png:https://www.begbroke.ox.ac.uk/wp-content/uploads/2025/05/website-26.png
END:VEVENT
BEGIN:VEVENT
DTSTART;TZID=UTC:20250618T093000
DTEND;TZID=UTC:20250618T103000
DTSTAMP:20260423T210245
CREATED:20250519T155134Z
LAST-MODIFIED:20250610T084058Z
UID:4251-1750239000-1750242600@www.begbroke.ox.ac.uk
SUMMARY:Begbroke Community Coffee Morning
DESCRIPTION:Join us for the next Begbroke Community Coffee Morning. It will be a great opportunity to meet others across the site and enjoy a cup of coffee together. \nEvent Details: \nDate: Wednesday 18 June\nTime: 9.30am – 10.30am\nLocation: Cherwell Room (CIE) \nSign Up Here
URL:https://www.begbroke.ox.ac.uk/event/begbroke-community-coffee-morning/
LOCATION:Cherwell Room\, Oxford University Begbroke Science Park
CATEGORIES:Site Events
ATTACH;FMTTYPE=image/png:https://www.begbroke.ox.ac.uk/wp-content/uploads/2025/05/website-26.png
END:VEVENT
END:VCALENDAR