BEGIN:VCALENDAR
VERSION:2.0
PRODID:-//Begbroke Science Park - ECPv6.15.20//NONSGML v1.0//EN
CALSCALE:GREGORIAN
METHOD:PUBLISH
X-WR-CALNAME:Begbroke Science Park
X-ORIGINAL-URL:https://www.begbroke.ox.ac.uk
X-WR-CALDESC:Events for Begbroke Science Park
REFRESH-INTERVAL;VALUE=DURATION:PT1H
X-Robots-Tag:noindex
X-PUBLISHED-TTL:PT1H
BEGIN:VTIMEZONE
TZID:UTC
BEGIN:STANDARD
TZOFFSETFROM:+0000
TZOFFSETTO:+0000
TZNAME:UTC
DTSTART:20240101T000000
END:STANDARD
END:VTIMEZONE
BEGIN:VEVENT
DTSTART;TZID=UTC:20251009T093000
DTEND;TZID=UTC:20251009T173000
DTSTAMP:20260423T210159
CREATED:20250926T153833Z
LAST-MODIFIED:20250926T153948Z
UID:4877-1760002200-1760031000@www.begbroke.ox.ac.uk
SUMMARY:Accelerate Impact: Oxford Impact Acceleration Account Conference 2025
DESCRIPTION:On Thursday 9 October\, the Oxford Impact Acceleration Account Conference will bring together researchers from across the University of Oxford working on Impact Acceleration Account (IAA) projects\, alongside external project partners. The event\, Accelerate Impact\, is a chance to celebrate and explore the range of economic\, social\, and policy impacts these collaborations have achieved to date. The conference is free. Begbroke Science Park will be at the event and have a stand. \nFind out more details here. \n \nRegister here
URL:https://www.begbroke.ox.ac.uk/event/accelerate-impact-oxford-impact-acceleration-account-conference-2025/
CATEGORIES:University Events
ATTACH;FMTTYPE=image/png:https://www.begbroke.ox.ac.uk/wp-content/uploads/2025/09/website-68.png
END:VEVENT
BEGIN:VEVENT
DTSTART;TZID=UTC:20250618T180000
DTEND;TZID=UTC:20250618T203000
DTSTAMP:20260423T210159
CREATED:20250610T083838Z
LAST-MODIFIED:20250610T083838Z
UID:4320-1750269600-1750278600@www.begbroke.ox.ac.uk
SUMMARY:#StartedinOxford Showcase
DESCRIPTION:The #StartedinOxford Showcase is a celebration of the thriving early-stage startup scene across the University\, the city and the county. \nJoin EnSpire\, the University of Oxford’s entrepreneurship hub\, for one of the most exciting and inspiring nights in Oxford’s entrepreneurial calendar – the #StartedinOxford Showcase. \nWhether you’re a founder\, investor\, student\, researcher\, or startup enthusiast\, this interactive event is your chance to experience Oxford’s innovation scene up close. Meet the brilliant minds behind early-stage ventures and take part in a fun ‘investment’ experience that puts you in the investor’s seat. \nEach attendee receives £1000 in #StartedinOxford pounds to invest in their favourite startups — and your choices will shape the outcome of the night. The top three startups with the most audience investment will win prizes and funding. \n🕕 Doors open: 6 PM\n📍 Venue: Blackwell Hall\, the Weston Library\, Oxford \nWhat to expect on the night: \n\nLive pitches from exciting early-stage startups\nA dynamic founder panel discussion\, where local entrepreneurs share honest stories\, lessons learned\, and what it really takes to build a business\nThe audience-led investment showcase where you help decide the winners\nPlenty of time to connect and network with founders\, investors\, and fellow innovators\n\nWhether you’re looking to support local talent\, scout for investment opportunities\, or just soak up the inspiration – the #StartedinOxford Showcase is an unforgettable night of ideas\, energy\, and community. \nBook Your Place
URL:https://www.begbroke.ox.ac.uk/event/startedinoxford-showcase/
LOCATION:Blackwell Hall\, the Weston Library\, Oxford
CATEGORIES:University Events
ATTACH;FMTTYPE=image/png:https://www.begbroke.ox.ac.uk/wp-content/uploads/2025/06/website-30.png
END:VEVENT
END:VCALENDAR